BEGIN:VCALENDAR
VERSION:2.0
PRODID:-//Lansdowne on the Potomac HOA - ECPv6.15.20//NONSGML v1.0//EN
CALSCALE:GREGORIAN
METHOD:PUBLISH
X-WR-CALNAME:Lansdowne on the Potomac HOA
X-ORIGINAL-URL:https://lansdownehoa.com
X-WR-CALDESC:Events for Lansdowne on the Potomac HOA
REFRESH-INTERVAL;VALUE=DURATION:PT1H
X-Robots-Tag:noindex
X-PUBLISHED-TTL:PT1H
BEGIN:VTIMEZONE
TZID:America/New_York
BEGIN:DAYLIGHT
TZOFFSETFROM:-0500
TZOFFSETTO:-0400
TZNAME:EDT
DTSTART:20250309T070000
END:DAYLIGHT
BEGIN:STANDARD
TZOFFSETFROM:-0400
TZOFFSETTO:-0500
TZNAME:EST
DTSTART:20251102T060000
END:STANDARD
BEGIN:DAYLIGHT
TZOFFSETFROM:-0500
TZOFFSETTO:-0400
TZNAME:EDT
DTSTART:20260308T070000
END:DAYLIGHT
BEGIN:STANDARD
TZOFFSETFROM:-0400
TZOFFSETTO:-0500
TZNAME:EST
DTSTART:20261101T060000
END:STANDARD
BEGIN:DAYLIGHT
TZOFFSETFROM:-0500
TZOFFSETTO:-0400
TZNAME:EDT
DTSTART:20270314T070000
END:DAYLIGHT
BEGIN:STANDARD
TZOFFSETFROM:-0400
TZOFFSETTO:-0500
TZNAME:EST
DTSTART:20271107T060000
END:STANDARD
END:VTIMEZONE
BEGIN:VEVENT
DTSTART;TZID=America/New_York:20260221T110000
DTEND;TZID=America/New_York:20260221T140000
DTSTAMP:20260422T062132
CREATED:20260211T195516Z
LAST-MODIFIED:20260211T195640Z
UID:10005574-1771671600-1771682400@lansdownehoa.com
SUMMARY:Invasive Plant Removal
DESCRIPTION:Join us on Saturday\, February 21\, from 11:00 am–2:00 pm for a community invasive plant removal event in LOTP common areas. LOTP volunteers will be working alongside Wetlands Studies and Solutions and LIRA to remove invasive plant species and help protect our native trees and shrubs. This event kicks off National Invasive Species Awareness Week and is a great way to give back to our natural spaces while spending time with neighbors. \nEvent Flyer
URL:https://lansdownehoa.com/event/invasive-plant-removal-2/
LOCATION:LOTP Common Areas\, 43459 Riverpoint Drive\, Leesburg\, Virginia 20176\, Lansdowne\, 20176\, United States
CATEGORIES:Community Event/Club
END:VEVENT
END:VCALENDAR